BEGIN:VCALENDAR
VERSION:2.0
PRODID:-//Legendary Legacy Group - ECPv6.15.20//NONSGML v1.0//EN
CALSCALE:GREGORIAN
METHOD:PUBLISH
X-WR-CALNAME:Legendary Legacy Group
X-ORIGINAL-URL:https://legendary-legacy.com
X-WR-CALDESC:Events for Legendary Legacy Group
REFRESH-INTERVAL;VALUE=DURATION:PT1H
X-Robots-Tag:noindex
X-PUBLISHED-TTL:PT1H
BEGIN:VTIMEZONE
TZID:UTC
BEGIN:STANDARD
TZOFFSETFROM:+0000
TZOFFSETTO:+0000
TZNAME:UTC
DTSTART:20250101T000000
END:STANDARD
END:VTIMEZONE
BEGIN:VEVENT
DTSTART;TZID=UTC:20260418T143000
DTEND;TZID=UTC:20260418T170000
DTSTAMP:20260423T194626
CREATED:20260417T203227Z
LAST-MODIFIED:20260417T203527Z
UID:1098-1776522600-1776531600@legendary-legacy.com
SUMMARY:RR Legacy Puff N Paint
DESCRIPTION:Join us for our first ever Puff N Paint here at RR Legacy. This is a free event with limited tickets\, get them while you can! \n  \nThe meeting location is 12 Hudson ave in Glens Falls\, meet us there!
URL:https://legendary-legacy.com/event/rr-legacy-puff-n-paint/
END:VEVENT
END:VCALENDAR