BEGIN:VCALENDAR
VERSION:2.0
PRODID:-//Legendary Legacy Group - ECPv6.15.20//NONSGML v1.0//EN
CALSCALE:GREGORIAN
METHOD:PUBLISH
X-WR-CALNAME:Legendary Legacy Group
X-ORIGINAL-URL:https://legendary-legacy.com
X-WR-CALDESC:Events for Legendary Legacy Group
REFRESH-INTERVAL;VALUE=DURATION:PT1H
X-Robots-Tag:noindex
X-PUBLISHED-TTL:PT1H
BEGIN:VTIMEZONE
TZID:UTC
BEGIN:STANDARD
TZOFFSETFROM:+0000
TZOFFSETTO:+0000
TZNAME:UTC
DTSTART:20230101T000000
END:STANDARD
END:VTIMEZONE
BEGIN:VEVENT
DTSTART;TZID=UTC:20240629T180000
DTEND;TZID=UTC:20240629T203000
DTSTAMP:20260424T155225
CREATED:20240523T215351Z
LAST-MODIFIED:20240628T164552Z
UID:644-1719684000-1719693000@legendary-legacy.com
SUMMARY:Sail & Inhale
DESCRIPTION:Relax and kick off your summer the right way with us. This boat ride guarantees a unique experience where you’re welcome to indulge in smoking while enjoying scenic views and gentle breezes 💨With promises of good music\, unlimited non alcoholic drinks\, relaxation\, camaraderie\, and the freedom to unwind as we cruise through the waters\, this exclusive event is not to be missed. Don’t miss your chance to be part of this special occasion. Reserve your spot now and get ready for an unforgettable evening! 😎
URL:https://legendary-legacy.com/event/sail-inhale/
LOCATION:Dutch Apple Cruises & Tours\, 141 Broadway Albany\, New York\, NY\, 12202\, United States
ATTACH;FMTTYPE=image/png:https://legendary-legacy.com/wp-content/uploads/2024/05/Sail-Inhale-1800-x-810-px.png
ORGANIZER;CN="Legendary Legacy Group":MAILTO:legendarylegacygroup@gmail.com
END:VEVENT
END:VCALENDAR